BEGIN:VCALENDAR
VERSION:2.0
CALSCALE:GREGORIAN
METHOD:PUBLISH
PRODID://RMWE//183595
BEGIN:VEVENT
DTSTAMP:20260421T022749
VTIMEZONE:America/Denver
DTSTART:20250108T190000Z
DTEND:20250108T210000Z
UID:183595
SUMMARY:IWT Virtual Seminar - Tertiary Treatment Advances in the Rocky Mountain Region
LOCATION:https://teams.microsoft.com/l/meetup-join/19%3ameeting_OTcxMzFjYWItOGVkMi00OTI3LWIxYzQtMjQ0ZTIzYTM5ZGFi%40thread.v2/0?context=%7b%22Tid%22%3a%22083fc4d2-72ad-412b-ae7d-6b81b83916dd%22%2c%22Oid%22%3a%229fc33d73-52da-477d-af9d-e3a69024c02d%22%7d
DESCRIPTION:IWT Virtual Seminar - Tertiary Treatment Advances in the Rocky Mountain Region\n\n01/08/25 12:00 PM MST\n - 01/08/25 02:00 PM MST\Description:\nThe Innovative Water Technology (IWT) steering committee is hosting another exciting webinar covering recent advancements in tertiary treatment. This event will delve into cutting-edge technologies and processes available for tertiary treatment of wastewater, including secondary polishing to improve feed quality. Join us to explore some of the latest innovations, including coagulation optimization, XBAT (Ion Exchange-Based Advanced Treatment) and PdNA (Partial denitrification Anammox). We’ll hear about recent applications of these technologies from industry experts on January 8th via Teams. We hope to see you there!\nPresentations:\n\nJustin Macmanus (HDR) - Polishing Nitrogen with PdNA – How Feasible & Complex is It?\n(30 min, 0.05 TU)\n\nThomas Worley-Morse (Metro Water Recovery) – Coagulation Optimization at Denver Metro's Northern Treatment Plant\n(30 min, 0.05 TU)\n\nRosa Yu (Carollo) – Ion Exchange-Based Advanced Treatment (XBAT): Nitrate and Salinity Removal from Wastewater without RO\n(1 hr, 0.1 TU)\n \n\n\n \n\n\n \n\Details:\nLocation: Virtual (Teams) Join the meeting now\nThere is no cost to register.\Location:\nhttps://teams.microsoft.com/l/meetup-join/19%3ameeting_OTcxMzFjYWItOGVkMi00OTI3LWIxYzQtMjQ0ZTIzYTM5ZGFi%40thread.v2/0?context=%7b%22Tid%22%3a%22083fc4d2-72ad-412b-ae7d-6b81b83916dd%22%2c%22Oid%22%3a%229fc33d73-52da-477d-af9d-e3a69024c02d%22%7d\n\n,
X-ALT-DESC;FMTTYPE=text/html:IWT Virtual Seminar - Tertiary Treatment Advances in the Rocky Mountain Region<br /><br />01/08/25 12:00 PM MST - 01/08/25 02:00 PM MST<br />Description:<br />The Innovative Water Technology (IWT) steering committee is hosting another exciting webinar covering recent advancements in tertiary treatment. This event will delve into cutting-edge technologies and processes available for tertiary treatment of wastewater, including secondary polishing to improve feed quality. Join us to explore some of the latest innovations, including coagulation optimization, XBAT (Ion Exchange-Based Advanced Treatment) and PdNA (Partial denitrification Anammox). We&rsquo;ll hear about recent applications of these technologies from industry experts on January 8th via Teams. We hope to see you there!
<h3><strong>Presentations:</strong></h3>

<p><strong>Justin Macmanus (HDR)</strong>&nbsp;- Polishing Nitrogen with PdNA &ndash; How Feasible &amp; Complex is It?<br />
(30 min, 0.05 TU)<br />
<br />
<strong>Thomas Worley-Morse (Metro Water Recovery)</strong>&nbsp;&ndash; Coagulation Optimization at Denver Metro's Northern Treatment Plant<br />
(30 min, 0.05 TU)<br />
<br />
<strong>Rosa Yu (Carollo)</strong>&nbsp;&ndash;&nbsp;Ion Exchange-Based Advanced Treatment (XBAT): Nitrate and Salinity Removal from Wastewater without RO<br />
(1 hr, 0.1 TU)<br />
&nbsp;</p>

<h3><br />
&nbsp;</h3>

<h3><br />
&nbsp;</h3>
<br />Details:<br /><u>Location:</u> Virtual (Teams)&nbsp;<a href="https://teams.microsoft.com/l/meetup-join/19%3ameeting_OTcxMzFjYWItOGVkMi00OTI3LWIxYzQtMjQ0ZTIzYTM5ZGFi%40thread.v2/0?context=%7b%22Tid%22%3a%22083fc4d2-72ad-412b-ae7d-6b81b83916dd%22%2c%22Oid%22%3a%229fc33d73-52da-477d-af9d-e3a69024c02d%22%7d" target="_blank" title="Meeting join link"><strong>Join the meeting now</strong></a><br />
There is no cost to register.<br />Location:<br />https://teams.microsoft.com/l/meetup-join/19%3ameeting_OTcxMzFjYWItOGVkMi00OTI3LWIxYzQtMjQ0ZTIzYTM5ZGFi%40thread.v2/0?context=%7b%22Tid%22%3a%22083fc4d2-72ad-412b-ae7d-6b81b83916dd%22%2c%22Oid%22%3a%229fc33d73-52da-477d-af9d-e3a69024c02d%22%7d<br /><br />,  
PRIORITY:3
TRANSP:TRANSPARENT
BEGIN:VALARM
TRIGGER:-PT5M
ACTION:DISPLAY
DESCRIPTION:Reminder
END:VALARM
END:VEVENT
END:VCALENDAR
