BEGIN:VCALENDAR
VERSION:2.0
CALSCALE:GREGORIAN
METHOD:PUBLISH
PRODID://BWGC//194395
BEGIN:VEVENT
DTSTAMP:20260424T130146
VTIMEZONE:America/New_York
DTSTART:20260518T160000Z
DTEND:20260518T170000Z
UID:194395
SUMMARY:Membership Committee Meeting
LOCATION:
DESCRIPTION:Membership Committee Meeting\n\n05/18/26 12:00 PM EST\n - 05/18/26 01:00 PM EST
X-ALT-DESC;FMTTYPE=text/html:Membership Committee Meeting<br /><br />05/18/26 12:00 PM EST - 05/18/26 01:00 PM EST
PRIORITY:3
TRANSP:TRANSPARENT
BEGIN:VALARM
TRIGGER:-PT5M
ACTION:DISPLAY
DESCRIPTION:Reminder
END:VALARM
END:VEVENT
END:VCALENDAR
