BEGIN:VCALENDAR
VERSION:2.0
CALSCALE:GREGORIAN
METHOD:PUBLISH
PRODID://BWGC//195599
BEGIN:VEVENT
DTSTAMP:20260421T073308
VTIMEZONE:America/New_York
DTSTART:20260505T210000Z
DTEND:20260505T220000Z
UID:195599
SUMMARY:Grantee Connect Meeting
LOCATION:
DESCRIPTION:Grantee Connect Meeting\n\n05/05/26 05:00 PM EST\n - 05/05/26 06:00 PM EST
X-ALT-DESC;FMTTYPE=text/html:Grantee Connect Meeting<br /><br />05/05/26 05:00 PM EST - 05/05/26 06:00 PM EST
PRIORITY:3
TRANSP:TRANSPARENT
BEGIN:VALARM
TRIGGER:-PT5M
ACTION:DISPLAY
DESCRIPTION:Reminder
END:VALARM
END:VEVENT
END:VCALENDAR
