BEGIN:VCALENDAR
VERSION:2.0
CALSCALE:GREGORIAN
METHOD:PUBLISH
PRODID://BWGC//198827
BEGIN:VEVENT
DTSTAMP:20260420T122140
VTIMEZONE:America/New_York
DTSTART:20260504T190000Z
DTEND:20260504T200000Z
UID:198827
SUMMARY:REDI Committee Meeting
LOCATION:
DESCRIPTION:REDI Committee Meeting\n\n05/04/26 03:00 PM EST\n - 05/04/26 04:00 PM EST
X-ALT-DESC;FMTTYPE=text/html:REDI Committee Meeting<br /><br />05/04/26 03:00 PM EST - 05/04/26 04:00 PM EST
PRIORITY:3
TRANSP:TRANSPARENT
BEGIN:VALARM
TRIGGER:-PT5M
ACTION:DISPLAY
DESCRIPTION:Reminder
END:VALARM
END:VEVENT
END:VCALENDAR
