BEGIN:VCALENDAR
VERSION:2.0
CALSCALE:GREGORIAN
METHOD:PUBLISH
PRODID://VCPA//201216
BEGIN:VEVENT
DTSTAMP:20260421T110926
VTIMEZONE:America/New_York
DTSTART:20251217T160000Z
DTEND:20251217T180000Z
UID:201216
SUMMARY:The 12th Annual Management of an Accounting Practice (MAP) Survey Meeting (MAP SIG)
LOCATION:WendroffÂ & Associates, CPAÂ , 900 South Quincy Street, Ste. 360, Arlington, VA, 22206
DESCRIPTION:The 12th Annual Management of an Accounting Practice (MAP) Survey Meeting (MAP SIG)\n\n12/17/25 11:00 AM EST\n - 12/17/25 01:00 PM EST\Description:\nAre you ready to unlock the potential of your CPA firm with unparalleled insights and data? \n\nJoin us in shaping the future of accounting in Northern Virginia, DC, and Maryland by participating in the 12th annual Management of Accounting Practice (MAP) Survey. Dive into a comprehensive analysis of our local market, focusing on critical performance indicators and best practices in essential operational areas such as finance, human resources, technology, and more. There's absolutely no cost for filing out this survey, and in return, you'll receive the final survey report packed with valuable intelligence to propel your firm's 2026 strategy and budgeting to new heights. \n\nHere is the survey to fill out: https://form.jotform.com/wendroffcpa/2025-local-map-survey-questions\n\nMake a mark on your firm's success and fill out this survey before December 8 to contribute your insights to our community's growth. Don't miss out on this opportunity to benchmark your firm against the best and brightest in the industry!\n\nBrian Wendroff, CPA, and Managing Partner of Wendroff & Associates, CPA, will be presenting on the survey on Wednesday, December 17th, at 11am. \n\nIt will be a hybrid meeting at Brian's office at 2900 South Quincy Street, Ste. 360, Arlington, VA 22206. Lunch will be served. \n\nWe expect to discuss new areas of focus, such as AI, automation, and offshoring. \n\nWe look forward to your participation and will be sending out the survey soon. \n\n\n\nSpeaker:  Brian Wendroff, CPA and Managing Partner of Wendroff & Associates, CPA  \nDate:  Wednesday, December 17, 2025\nTime:  11:00am- 1:00pm \nLocation:  In-person at Wendroff & Associates, CPA,  2900 South Quincy Street, Ste. 360, Arlington, VA 22206. \n                or Virtual:  Zoom Webinar - Link in confirmation\nBenefits:  2 hour CPE and lunch will be provided for in-person participants\nCost:  Free for NCVSCPA members, non-members pay $25 for virtual or $40 for in-person\n\Location:\nWendroffÂ & Associates, CPAÂ \n900 South Quincy Street, Ste. 360\nArlington, VA 22206
X-ALT-DESC;FMTTYPE=text/html:The 12th Annual Management of an Accounting Practice (MAP) Survey Meeting (MAP SIG)<br /><br />12/17/25 11:00 AM EST - 12/17/25 01:00 PM EST<br />Description:<br /><p dir="ltr"><strong>Are you ready to unlock the potential of your CPA firm with unparalleled insights and data?&nbsp;</strong></p>

<p dir="ltr">Join us in shaping the future of accounting in Northern Virginia, DC, and Maryland by participating in the 12th annual Management of Accounting Practice (MAP) Survey. Dive into a comprehensive analysis of our local market, focusing on critical performance indicators and best practices in essential operational areas such as finance, human resources, technology, and more. There's absolutely no cost for filing out this survey, and in return, you'll receive the final survey report packed with valuable intelligence to propel your firm's 2026 strategy and budgeting to new heights.&nbsp;</p>

<p dir="ltr">Here is the survey to fill out:&nbsp;<a href="https://form.jotform.com/wendroffcpa/2025-local-map-survey-questions">https://form.jotform.com/wendroffcpa/2025-local-map-survey-questions</a></p>

<p dir="ltr">Make a mark on your firm's success and fill out this survey before&nbsp;<strong>December 8</strong>&nbsp;to contribute your insights to our community's growth. Don't miss out on this opportunity to benchmark your firm against the best and brightest in the industry!</p>

<p dir="ltr"><strong>Brian Wendroff, CPA, and Managing Partner of Wendroff &amp; Associates, CPA, will be presenting on the survey on Wednesday, December 17th, at 11am.&nbsp;</strong></p>

<p dir="ltr">It will be a hybrid meeting at Brian's office at 2900 South Quincy Street, Ste. 360, Arlington, VA 22206. Lunch will be served.&nbsp;</p>

<p dir="ltr">We expect to discuss new areas of focus, such as AI, automation, and offshoring.&nbsp;</p>

<p dir="ltr">We look forward to your participation and will be sending out the survey soon.&nbsp;</p>

<p><br />
<br />
<u>Speaker</u>: &nbsp;Brian Wendroff, CPA&nbsp;and Managing Partner of Wendroff &amp; Associates, CPA &nbsp;<br />
<u>Date</u>: &nbsp;Wednesday, December 17, 2025<br />
<u>Time</u>: &nbsp;11:00am- 1:00pm&nbsp;<br />
<u>Location</u>: &nbsp;In-person at&nbsp;Wendroff&nbsp;&amp; Associates, CPA,&nbsp;&nbsp;2900 South Quincy Street, Ste. 360, Arlington, VA 22206.&nbsp;<br />
&nbsp;&nbsp;&nbsp;&nbsp;&nbsp; &nbsp; &nbsp; &nbsp; &nbsp; &nbsp; or&nbsp;Virtual: &nbsp;Zoom Webinar - Link in confirmation<br />
<u>Benefits</u>: &nbsp;2&nbsp;hour CPE and lunch will be provided for in-person participants<br />
<u>Cost</u>: &nbsp;Free&nbsp;for NCVSCPA members, non-members pay $25 for virtual or $40 for in-person</p>
<br />Location:<br />WendroffÂ & Associates, CPAÂ <br />900 South Quincy Street, Ste. 360<br />Arlington, VA 22206
PRIORITY:3
TRANSP:TRANSPARENT
BEGIN:VALARM
TRIGGER:-PT5M
ACTION:DISPLAY
DESCRIPTION:Reminder
END:VALARM
END:VEVENT
END:VCALENDAR
