BEGIN:VCALENDAR
VERSION:2.0
CALSCALE:GREGORIAN
METHOD:PUBLISH
PRODID://BWGC//205992
BEGIN:VEVENT
DTSTAMP:20260422T094533
VTIMEZONE:America/New_York
DTSTART:20260513T210000Z
DTEND:20260513T223000Z
UID:205992
SUMMARY:Annual Meeting
LOCATION:
DESCRIPTION:Annual Meeting\n\n05/13/26 05:00 PM EST\n - 05/13/26 06:30 PM EST
X-ALT-DESC;FMTTYPE=text/html:Annual Meeting<br /><br />05/13/26 05:00 PM EST - 05/13/26 06:30 PM EST
PRIORITY:3
TRANSP:TRANSPARENT
BEGIN:VALARM
TRIGGER:-PT5M
ACTION:DISPLAY
DESCRIPTION:Reminder
END:VALARM
END:VEVENT
END:VCALENDAR
