BEGIN:VCALENDAR
VERSION:2.0
CALSCALE:GREGORIAN
METHOD:PUBLISH
PRODID://A1LC//208942
BEGIN:VEVENT
DTSTAMP:20260422T073254
VTIMEZONE:America/New_York
DTSTART:20290906T070000Z
DTEND:20290906T083000Z
UID:208942
SUMMARY:Dui Condimentum Condimentum Ac Id Justo
LOCATION:
DESCRIPTION:Dui Condimentum Condimentum Ac Id Justo\n\n09/06/29 03:00 AM EST\n - 09/06/29 04:30 AM EST\Description:\nInteger tristique eu metus ac auctor. Vivamus congue velit vitae sem ullamcorper, ut volutpat nulla semper.
X-ALT-DESC;FMTTYPE=text/html:Dui Condimentum Condimentum Ac Id Justo<br /><br />09/06/29 03:00 AM EST - 09/06/29 04:30 AM EST<br />Description:<br />Integer tristique eu metus ac auctor. Vivamus congue velit vitae sem ullamcorper, ut volutpat nulla semper.
PRIORITY:3
TRANSP:TRANSPARENT
BEGIN:VALARM
TRIGGER:-PT5M
ACTION:DISPLAY
DESCRIPTION:Reminder
END:VALARM
END:VEVENT
END:VCALENDAR
