BEGIN:VCALENDAR
VERSION:2.0
CALSCALE:GREGORIAN
METHOD:PUBLISH
PRODID://MALA//212446
BEGIN:VEVENT
DTSTAMP:20260420T124854
VTIMEZONE:America/New_York
DTSTART:20260430T141500Z
DTEND:20260430T150000Z
UID:212446
SUMMARY:Assessment IG Meeting
LOCATION:Email Delaney Jorgensen at jorgedel@gvsu.edu for the Zoom link
DESCRIPTION:Assessment IG Meeting\n\n04/30/26 10:15 AM EST\n - 04/30/26 11:00 AM EST\Description:\nJoin the Assessment Interest Group to discuss website and discovery assessment. If you'd like to attend, email Delaney Jorgensen at jorgedel@gvsu.edu for the Zoom link!\Location:\nEmail Delaney Jorgensen at jorgedel@gvsu.edu for the Zoom link\n\n,
X-ALT-DESC;FMTTYPE=text/html:Assessment IG Meeting<br /><br />04/30/26 10:15 AM EST - 04/30/26 11:00 AM EST<br />Description:<br />Join the Assessment Interest Group to discuss website and discovery assessment. If you'd like to attend, email Delaney Jorgensen at <a href="mailto:jorgedel@gvsu.edu">jorgedel@gvsu.edu</a> for the Zoom link!<br />Location:<br />Email Delaney Jorgensen at jorgedel@gvsu.edu for the Zoom link<br /><br />,  
PRIORITY:3
TRANSP:TRANSPARENT
BEGIN:VALARM
TRIGGER:-PT5M
ACTION:DISPLAY
DESCRIPTION:Reminder
END:VALARM
END:VEVENT
END:VCALENDAR
