BEGIN:VCALENDAR
VERSION:2.0
CALSCALE:GREGORIAN
METHOD:PUBLISH
PRODID://UAA//212449
BEGIN:VEVENT
DTSTAMP:20260423T073407
VTIMEZONE:America/Chicago
DTSTART:20260518T130000Z
DTEND:20260519T210000Z
UID:212449
SUMMARY:Visit UAA at SAFECON     
LOCATION:KMLI - Quad Cities International Airport, Moline, IL
DESCRIPTION:Visit UAA at SAFECON     \n\n05/18/26 08:00 AM CST\n - 05/19/26 04:00 PM CST\Description:\nMeet the UAA team at the National Aviation Championship!\nSAFECON is the gold standard of collegiate aviation, bringing together the industry’s future leaders for the ultimate test of skill, safety, and performance. Come witness the next generation of aviators as they compete to uphold a prestigious tradition of excellence.\n\Location:\nKMLI - Quad Cities International Airport\nMoline, IL\n,
X-ALT-DESC;FMTTYPE=text/html:Visit UAA at SAFECON     <br /><br />05/18/26 08:00 AM CST - 05/19/26 04:00 PM CST<br />Description:<br /><p data-path-to-node="6"><span style="font-family:trebuchet ms,helvetica,sans-serif"><span style="font-size:18px"><strong>Meet the UAA team at the National Aviation Championship!</strong></span><br />
<span style="font-size:16px"><strong data-index-in-node="0" data-path-to-node="2">SAFECON</strong>&nbsp;is the gold standard of collegiate aviation, bringing together the industry&rsquo;s future leaders for the ultimate test of skill, safety, and performance. Come witness the next generation of aviators as they compete to uphold a prestigious tradition of excellence.</span></span></p>
<br />Location:<br />KMLI - Quad Cities International Airport<br />Moline, IL<br />,  
PRIORITY:3
TRANSP:TRANSPARENT
BEGIN:VALARM
TRIGGER:-PT5M
ACTION:DISPLAY
DESCRIPTION:Reminder
END:VALARM
END:VEVENT
END:VCALENDAR
