BEGIN:VCALENDAR
VERSION:2.0
CALSCALE:GREGORIAN
METHOD:PUBLISH
PRODID://FLPB//212568
BEGIN:VEVENT
DTSTAMP:20260422T080348
VTIMEZONE:America/New_York
DTSTART:20260428T193000Z
DTEND:20260428T210000Z
UID:212568
SUMMARY:BOMA Day Committee Wrap-up Meeting
LOCATION:Soprema Meeting Facility, 2900 Center Port Cr., Pompano Beach, FL, 33064
DESCRIPTION:BOMA Day Committee Wrap-up Meeting\n\n04/28/26 03:30 PM EST\n - 04/28/26 05:00 PM EST\Description:\nFor our committee members who made this year's BOMA Day a huge success. Come join us to see what can be improved upon and what was a hole in one!\Location:\nSoprema Meeting Facility\n2900 Center Port Cr.\nPompano Beach, FL 33064
X-ALT-DESC;FMTTYPE=text/html:BOMA Day Committee Wrap-up Meeting<br /><br />04/28/26 03:30 PM EST - 04/28/26 05:00 PM EST<br />Description:<br />For our committee members who made this year's BOMA Day a huge success. Come join us to see what can be improved upon and what was a hole in one!<br />Location:<br />Soprema Meeting Facility<br />2900 Center Port Cr.<br />Pompano Beach, FL 33064
PRIORITY:3
TRANSP:TRANSPARENT
BEGIN:VALARM
TRIGGER:-PT5M
ACTION:DISPLAY
DESCRIPTION:Reminder
END:VALARM
END:VEVENT
END:VCALENDAR
