BEGIN:VCALENDAR
VERSION:2.0
CALSCALE:GREGORIAN
METHOD:PUBLISH
PRODID://VAS//212678
BEGIN:VEVENT
DTSTAMP:20260423T101303
VTIMEZONE:America/New_York
DTSTART:20261031T120000Z
DTEND:20261031T210000Z
UID:212678
SUMMARY:2026 Undergraduate Research Meeting
LOCATION:
DESCRIPTION:2026 Undergraduate Research Meeting\n\n10/31/26 08:00 AM EST\n - 10/31/26 05:00 PM EST\Description:\nThe 2026 meeting will be held at the Virginia Military Academy in Lexington, VA.  Undergraduates can submit proposals and then compete for ten $1000 research grants.  
X-ALT-DESC;FMTTYPE=text/html:2026 Undergraduate Research Meeting<br /><br />10/31/26 08:00 AM EST - 10/31/26 05:00 PM EST<br />Description:<br />The 2026 meeting will be held at the Virginia Military Academy in Lexington, VA.&nbsp; Undergraduates can submit proposals and then compete for ten $1000 research grants.&nbsp;&nbsp;
PRIORITY:3
TRANSP:TRANSPARENT
BEGIN:VALARM
TRIGGER:-PT5M
ACTION:DISPLAY
DESCRIPTION:Reminder
END:VALARM
END:VEVENT
END:VCALENDAR
