BEGIN:VCALENDAR
VERSION:2.0
CALSCALE:GREGORIAN
METHOD:PUBLISH
PRODID://CAE1//212701
BEGIN:VEVENT
DTSTAMP:20260425T143545
VTIMEZONE:America/Los_Angeles
DTSTART:20260516T180000Z
DTEND:20260516T193000Z
UID:212701
SUMMARY:Explore Hancock Park & the Miracle Mile
LOCATION:Meet southwest end of the La Brea Parking Lot near the information booth
DESCRIPTION:Explore Hancock Park & the Miracle Mile\n\n05/16/26 11:00 AM PST\n - 05/16/26 12:30 PM PST\Description:\nJoin us for a guided walking tour of Hancock Park and the surrounding Miracle Mile, where deep history meets major cultural investment. The tour centers on the worldâ€‘famous La Brea Tar Pits, then steps outward to explore how this landscape shaped—and continues to shape—Los Angeles. We’ll highlight LACMA’s campus transformation, the landmark Academy Museum of Motion Pictures, and the newly completed Metro D Line (Purple) Subway Extension, a major infrastructure project reshaping access, density, and urban connectivity along Wilshire Boulevard. Along the way, we’ll discuss how geology, planning, transit, and cultural institutions intersect at one of the most dynamic sites in the city. This is a rare opportunity to see an active paleontological site alongside cuttingâ€‘edge architecture and transit investment in the heart of Los Angeles.\n \nDate: Saturday, May 16th from 11:00am-12:30pm\nLocation: Meet southwest end of the La Brea Parking Lot near the information booth\nPaid Parking: La Brea Tar Pits lot ($20) on Curson Avenue between 6th and Wilshire\nAlternative Parking: Garage at 679 S Curson ($24) or LACMA ($23) on 6th St\nPublic Transit: Metro D Line > Wilshire/La Brea\n \n**Museums have separate entry fees not included\n**Lunch options at The Counter\n \Location:\nMeet southwest end of the La Brea Parking Lot near the information booth\n\n,
X-ALT-DESC;FMTTYPE=text/html:Explore Hancock Park & the Miracle Mile<br /><br />05/16/26 11:00 AM PST - 05/16/26 12:30 PM PST<br />Description:<br />Join us for a guided walking tour of Hancock Park&nbsp;and the surrounding Miracle Mile, where deep history meets major cultural investment. The tour centers on the worldâ€‘famous La Brea Tar Pits, then steps outward to explore how this landscape shaped&mdash;and continues to shape&mdash;Los Angeles. We&rsquo;ll highlight LACMA&rsquo;s campus transformation, the landmark Academy Museum of Motion Pictures, and the newly completed Metro D Line (Purple) Subway Extension, a major infrastructure project reshaping access, density, and urban connectivity along Wilshire Boulevard. Along the way, we&rsquo;ll discuss how geology, planning, transit, and cultural institutions intersect at one of the most dynamic sites in the city. This is a rare opportunity to see an active paleontological site alongside cuttingâ€‘edge architecture and transit investment in the heart of Los Angeles.<br />
&nbsp;<br />
Date: Saturday, May 16th from 11:00am-12:30pm<br />
Location: Meet southwest end of the La Brea Parking Lot near the information booth<br />
Paid Parking: La Brea Tar Pits lot ($20) on Curson Avenue between 6th and Wilshire<br />
Alternative Parking: Garage at <a href="https://www.google.com/maps/search/679+S+Curson?entry=gmail&amp;source=g" target="_blank">679 S Curson</a> ($24) or LACMA ($23) on 6th St<br />
Public Transit: Metro D Line &gt; Wilshire/La Brea<br />
&nbsp;<br />
**Museums have separate entry fees not included<br />
**Lunch options at The Counter<br />
&nbsp;<br />Location:<br />Meet southwest end of the La Brea Parking Lot near the information booth<br /><br />,  
PRIORITY:3
TRANSP:TRANSPARENT
BEGIN:VALARM
TRIGGER:-PT5M
ACTION:DISPLAY
DESCRIPTION:Reminder
END:VALARM
END:VEVENT
END:VCALENDAR
